BEGIN:VCALENDAR
VERSION:2.0
PRODID:-//Entsendungstraining - ECPv6.15.13//NONSGML v1.0//EN
CALSCALE:GREGORIAN
METHOD:PUBLISH
X-WR-CALNAME:Entsendungstraining
X-ORIGINAL-URL:https://www.entsendungstraining.de
X-WR-CALDESC:Veranstaltungen für Entsendungstraining
REFRESH-INTERVAL;VALUE=DURATION:PT1H
X-Robots-Tag:noindex
X-PUBLISHED-TTL:PT1H
BEGIN:VTIMEZONE
TZID:Europe/Berlin
BEGIN:DAYLIGHT
TZOFFSETFROM:+0100
TZOFFSETTO:+0200
TZNAME:CEST
DTSTART:20250330T010000
END:DAYLIGHT
BEGIN:STANDARD
TZOFFSETFROM:+0200
TZOFFSETTO:+0100
TZNAME:CET
DTSTART:20251026T010000
END:STANDARD
BEGIN:DAYLIGHT
TZOFFSETFROM:+0100
TZOFFSETTO:+0200
TZNAME:CEST
DTSTART:20260329T010000
END:DAYLIGHT
BEGIN:STANDARD
TZOFFSETFROM:+0200
TZOFFSETTO:+0100
TZNAME:CET
DTSTART:20261025T010000
END:STANDARD
BEGIN:DAYLIGHT
TZOFFSETFROM:+0100
TZOFFSETTO:+0200
TZNAME:CEST
DTSTART:20270328T010000
END:DAYLIGHT
BEGIN:STANDARD
TZOFFSETFROM:+0200
TZOFFSETTO:+0100
TZNAME:CET
DTSTART:20271031T010000
END:STANDARD
END:VTIMEZONE
BEGIN:VEVENT
DTSTART;TZID=Europe/Berlin:20260423T090000
DTEND;TZID=Europe/Berlin:20260424T170000
DTSTAMP:20260423T104741
CREATED:20251214T181058Z
LAST-MODIFIED:20251214T181100Z
UID:11405-1776934800-1777050000@www.entsendungstraining.de
SUMMARY:Entsendung nach China (2 Tage\, Köln) - 23. & 24. April 2026
DESCRIPTION:ZIELGRUPPE:Expatriates und deren mit ausreisende Partner / Familienangehörige vor einer Entsendung nach China \n\n\n\nKey Facts zum Entsendungsseminar China\n\n\n\n\n\nVeranstaltungsort \n\n\n\n\n\n\n\nZielgruppe: Expatriates und deren mit ausreisende Partner / Familienangehörige vor einer Entsendung nach China \n\n\n\nZiel des Seminars: Vermittlung eines grundsätzlichen Verständnisses für die fremdartige Kommunikation und den geschäftlichen Umgang mit chinesischen Kollegen und Geschäftspartnern und Vorbereitung von Ausreisenden und deren Partnern auf alle wichtigen Aspekte vor oder nach einer Ausreise sowohl im privaten als auch im geschäftlichen Bereich. \n\n\n\nSeminarart: Offenes Seminar\, an dem auch Mitarbeiter anderer Unternehmen teilnehmen können. \n\n\n\nSeminarleiter: Die Teilnehmer unserer Seminare suchen Trainer\, die im Geschäftsalltag „ihre Sprache sprechen“ und für die Alltagsprobleme im internationalen Geschäft praxisrelevante Antworten und Lösungen anbieten. Die Trainer von Accenta Asia bringen genau diese Anforderungen mit: mehrjährige praktische Managementerfahrung in der Wirtschaft und den jeweiligen Zielregionen als auch mehrjährige professionelle Trainererfahrung. Diese Kombination von Wissen und Erfahrung gewährleistet den Teilnehmern unserer Seminare bestmögliche Resultate beim Aufbau ihrer interkulturellen Kompetenz für den direkten Geschäftserfolg. \n\n\n\nLeistungen: Seminardurchführung\, Seminarunterlagen\, Mittagessen\, Seminargetränke\, Teilnahme-Zertifikat \n\n\n\nSeminarpreis: EURO 1.950.- pro Person zzgl. Mwst. Für mit ausreisende Partner: EURO 300.- zzgl. Mwst. (inkl. Mittagessen). \n\n\n\nSeminardauer: 2 Tage (jeweils von 9.00 – 17.00 Uhr) \n\n\n\nTeilnehmerzahl: Max. 4 Personen (um jedem Teilnehmer genügend Zeit für Diskussionen eigener Themen zu geben). \n\n\n\nGARANTIE: Wir garantieren\, dass das Seminar unabhängig von der Teilnehmerzahl stattfindet. \n\n\n\nAnmeldung: Nutzen Sie unser Anmeldeformular \n\n\n\nSeminarinformationen: Für detaillierte Informationen wie Seminarinhalte schauen Sie sich gerne unsere Seminarinformationen an. \n\n\n\nSeminarinfo Entsendung China
URL:https://www.entsendungstraining.de/seminar/entsendung-nach-china-2-tage-koeln-23-24-april-2026/
LOCATION:Köln\, Gregorius-Maurus-Str. 11-17\, Köln\, 50670\, Germany
CATEGORIES:Leben und Arbeiten in China,Seminar
ORGANIZER;CN="Accenta Asia":MAILTO:kontakt@accenta-asia.de
END:VEVENT
BEGIN:VEVENT
DTSTART;TZID=Europe/Berlin:20260615T090000
DTEND;TZID=Europe/Berlin:20260616T170000
DTSTAMP:20260423T104741
CREATED:20251214T181328Z
LAST-MODIFIED:20251214T181330Z
UID:11406-1781514000-1781629200@www.entsendungstraining.de
SUMMARY:Entsendung nach China (2 Tage\, Köln) - 15. & 16. Juni 2026
DESCRIPTION:ZIELGRUPPE:Expatriates und deren mit ausreisende Partner / Familienangehörige vor einer Entsendung nach China \n\n\n\nKey Facts zum Entsendungsseminar China\n\n\n\n\n\nVeranstaltungsort \n\n\n\n\n\n\n\nZielgruppe: Expatriates und deren mit ausreisende Partner / Familienangehörige vor einer Entsendung nach China \n\n\n\nZiel des Seminars: Vermittlung eines grundsätzlichen Verständnisses für die fremdartige Kommunikation und den geschäftlichen Umgang mit chinesischen Kollegen und Geschäftspartnern und Vorbereitung von Ausreisenden und deren Partnern auf alle wichtigen Aspekte vor oder nach einer Ausreise sowohl im privaten als auch im geschäftlichen Bereich. \n\n\n\nSeminarart: Offenes Seminar\, an dem auch Mitarbeiter anderer Unternehmen teilnehmen können. \n\n\n\nSeminarleiter: Die Teilnehmer unserer Seminare suchen Trainer\, die im Geschäftsalltag „ihre Sprache sprechen“ und für die Alltagsprobleme im internationalen Geschäft praxisrelevante Antworten und Lösungen anbieten. Die Trainer von Accenta Asia bringen genau diese Anforderungen mit: mehrjährige praktische Managementerfahrung in der Wirtschaft und den jeweiligen Zielregionen als auch mehrjährige professionelle Trainererfahrung. Diese Kombination von Wissen und Erfahrung gewährleistet den Teilnehmern unserer Seminare bestmögliche Resultate beim Aufbau ihrer interkulturellen Kompetenz für den direkten Geschäftserfolg. \n\n\n\nLeistungen: Seminardurchführung\, Seminarunterlagen\, Mittagessen\, Seminargetränke\, Teilnahme-Zertifikat \n\n\n\nSeminarpreis: EURO 1.950.- pro Person zzgl. Mwst. Für mit ausreisende Partner: EURO 300.- zzgl. Mwst. (inkl. Mittagessen). \n\n\n\nSeminardauer: 2 Tage (jeweils von 9.00 – 17.00 Uhr) \n\n\n\nTeilnehmerzahl: Max. 4 Personen (um jedem Teilnehmer genügend Zeit für Diskussionen eigener Themen zu geben). \n\n\n\nGARANTIE: Wir garantieren\, dass das Seminar unabhängig von der Teilnehmerzahl stattfindet. \n\n\n\nAnmeldung: Nutzen Sie unser Anmeldeformular \n\n\n\nSeminarinformationen: Für detaillierte Informationen wie Seminarinhalte schauen Sie sich gerne unsere Seminarinformationen an. \n\n\n\nSeminarinfo Entsendung China
URL:https://www.entsendungstraining.de/seminar/entsendung-nach-china-2-tage-koeln-15-16-juni-2026/
LOCATION:Köln\, Gregorius-Maurus-Str. 11-17\, Köln\, 50670\, Germany
CATEGORIES:Leben und Arbeiten in China,Seminar
ORGANIZER;CN="Accenta Asia":MAILTO:kontakt@accenta-asia.de
END:VEVENT
BEGIN:VEVENT
DTSTART;TZID=Europe/Berlin:20260618T090000
DTEND;TZID=Europe/Berlin:20260619T170000
DTSTAMP:20260423T104741
CREATED:20251214T182151Z
LAST-MODIFIED:20251222T114946Z
UID:11412-1781773200-1781888400@www.entsendungstraining.de
SUMMARY:Entsendung nach Japan (2 Tage\, Köln) - 18. & 19. Juni 2026
DESCRIPTION:ZIELGRUPPE:Expatriates und deren mit ausreisende Partner / Familienangehörige vor einer Entsendung nach Japan \n\n\n\nKey Facts zum Entsendungsseminar Japan\n\n\n\n\n\nVeranstaltungsort \n\n\n\n\n\n\n\nZielgruppe: Expatriates und deren mit ausreisende Partner / Familienangehörige vor einer Entsendung nach Japan \n\n\n\nZiel des Seminars: Vermittlung eines grundsätzlichen Verständnisses für die fremdartige Kommunikation und den geschäftlichen Umgang mit japanischen Kollegen und Geschäftspartnern und Vorbereitung von Ausreisenden und deren Partnern auf alle wichtigen Aspekte vor oder nach einer Ausreise sowohl im privaten als auch im geschäftlichen Bereich. \n\n\n\nSeminarart: Offenes Seminar\, an dem auch Mitarbeiter anderer Unternehmen teilnehmen können. \n\n\n\nSeminarleiter: Die Teilnehmer unserer Seminare suchen Trainer\, die im Geschäftsalltag „ihre Sprache sprechen“ und für die Alltagsprobleme im internationalen Geschäft praxisrelevante Antworten und Lösungen anbieten. Die Trainer von Accenta Asia bringen genau diese Anforderungen mit: mehrjährige praktische Managementerfahrung in der Wirtschaft und den jeweiligen Zielregionen als auch mehrjährige professionelle Trainererfahrung. Diese Kombination von Wissen und Erfahrung gewährleistet den Teilnehmern unserer Seminare bestmögliche Resultate beim Aufbau ihrer interkulturellen Kompetenz für den direkten Geschäftserfolg. \n\n\n\nLeistungen: Seminardurchführung\, Seminarunterlagen\, Mittagessen\, Seminargetränke\, Teilnahme-Zertifikat \n\n\n\nSeminarpreis: EURO 1.950.- pro Person zzgl. Mwst. Für mitausreisende Partner: EURO 300.- zzgl. Mwst. (inkl. Mittagessen). \n\n\n\nSeminardauer: 2 Tage (jeweils von 9.00 – 17.00 Uhr) \n\n\n\nTeilnehmerzahl: Max. 4 Personen (um jedem Teilnehmer genügend Zeit für Diskussionen eigener Themen zu geben). \n\n\n\nGARANTIE: Wir garantieren\, dass das Seminar unabhängig von der Teilnehmerzahl stattfindet. \n\n\n\nAnmeldung: Nutzen Sie unser Anmeldeformular \n\n\n\nSeminarinformationen: Für detaillierte Informationen wie Seminarinhalte schauen Sie sich gerne unsere Seminarinformationen an. \n\n\n\nSeminarinfo Entsendung Japan
URL:https://www.entsendungstraining.de/seminar/entsendung-nach-japan-2-tage-koeln-18-19-juni-2026/
LOCATION:Köln\, Gregorius-Maurus-Str. 11-17\, Köln\, 50670\, Germany
CATEGORIES:Leben und Arbeiten in Japan,Seminar
ORGANIZER;CN="Accenta Asia":MAILTO:kontakt@accenta-asia.de
END:VEVENT
BEGIN:VEVENT
DTSTART;TZID=Europe/Berlin:20261116T090000
DTEND;TZID=Europe/Berlin:20261117T170000
DTSTAMP:20260423T104741
CREATED:20251214T181502Z
LAST-MODIFIED:20251214T181505Z
UID:11407-1794819600-1794934800@www.entsendungstraining.de
SUMMARY:Entsendung nach China (2 Tage\, Köln) - 16. & 17. November 2026
DESCRIPTION:ZIELGRUPPE:Expatriates und deren mit ausreisende Partner / Familienangehörige vor einer Entsendung nach China \n\n\n\nKey Facts zum Entsendungsseminar China\n\n\n\n\n\nVeranstaltungsort \n\n\n\n\n\n\n\nZielgruppe: Expatriates und deren mit ausreisende Partner / Familienangehörige vor einer Entsendung nach China \n\n\n\nZiel des Seminars: Vermittlung eines grundsätzlichen Verständnisses für die fremdartige Kommunikation und den geschäftlichen Umgang mit chinesischen Kollegen und Geschäftspartnern und Vorbereitung von Ausreisenden und deren Partnern auf alle wichtigen Aspekte vor oder nach einer Ausreise sowohl im privaten als auch im geschäftlichen Bereich. \n\n\n\nSeminarart: Offenes Seminar\, an dem auch Mitarbeiter anderer Unternehmen teilnehmen können. \n\n\n\nSeminarleiter: Die Teilnehmer unserer Seminare suchen Trainer\, die im Geschäftsalltag „ihre Sprache sprechen“ und für die Alltagsprobleme im internationalen Geschäft praxisrelevante Antworten und Lösungen anbieten. Die Trainer von Accenta Asia bringen genau diese Anforderungen mit: mehrjährige praktische Managementerfahrung in der Wirtschaft und den jeweiligen Zielregionen als auch mehrjährige professionelle Trainererfahrung. Diese Kombination von Wissen und Erfahrung gewährleistet den Teilnehmern unserer Seminare bestmögliche Resultate beim Aufbau ihrer interkulturellen Kompetenz für den direkten Geschäftserfolg. \n\n\n\nLeistungen: Seminardurchführung\, Seminarunterlagen\, Mittagessen\, Seminargetränke\, Teilnahme-Zertifikat \n\n\n\nSeminarpreis: EURO 1.950.- pro Person zzgl. Mwst. Für mit ausreisende Partner: EURO 300.- zzgl. Mwst. (inkl. Mittagessen). \n\n\n\nSeminardauer: 2 Tage (jeweils von 9.00 – 17.00 Uhr) \n\n\n\nTeilnehmerzahl: Max. 4 Personen (um jedem Teilnehmer genügend Zeit für Diskussionen eigener Themen zu geben). \n\n\n\nGARANTIE: Wir garantieren\, dass das Seminar unabhängig von der Teilnehmerzahl stattfindet. \n\n\n\nAnmeldung: Nutzen Sie unser Anmeldeformular \n\n\n\nSeminarinformationen: Für detaillierte Informationen wie Seminarinhalte schauen Sie sich gerne unsere Seminarinformationen an. \n\n\n\nSeminarinfo Entsendung China
URL:https://www.entsendungstraining.de/seminar/entsendung-nach-china-2-tage-koeln-16-17-november-2026/
LOCATION:Köln\, Gregorius-Maurus-Str. 11-17\, Köln\, 50670\, Germany
CATEGORIES:Leben und Arbeiten in China,Seminar
ORGANIZER;CN="Accenta Asia":MAILTO:kontakt@accenta-asia.de
END:VEVENT
END:VCALENDAR